BEGIN:VCALENDAR
VERSION:2.0
PRODID:-//Alliance for SoCal Innovation - ECPv6.15.20//NONSGML v1.0//EN
CALSCALE:GREGORIAN
METHOD:PUBLISH
X-WR-CALNAME:Alliance for SoCal Innovation
X-ORIGINAL-URL:https://alliancesocal.org
X-WR-CALDESC:Events for Alliance for SoCal Innovation
REFRESH-INTERVAL;VALUE=DURATION:PT1H
X-Robots-Tag:noindex
X-PUBLISHED-TTL:PT1H
BEGIN:VTIMEZONE
TZID:America/Los_Angeles
BEGIN:DAYLIGHT
TZOFFSETFROM:-0800
TZOFFSETTO:-0700
TZNAME:PDT
DTSTART:20220313T100000
END:DAYLIGHT
BEGIN:STANDARD
TZOFFSETFROM:-0700
TZOFFSETTO:-0800
TZNAME:PST
DTSTART:20221106T090000
END:STANDARD
BEGIN:DAYLIGHT
TZOFFSETFROM:-0800
TZOFFSETTO:-0700
TZNAME:PDT
DTSTART:20230312T100000
END:DAYLIGHT
BEGIN:STANDARD
TZOFFSETFROM:-0700
TZOFFSETTO:-0800
TZNAME:PST
DTSTART:20231105T090000
END:STANDARD
BEGIN:DAYLIGHT
TZOFFSETFROM:-0800
TZOFFSETTO:-0700
TZNAME:PDT
DTSTART:20240310T100000
END:DAYLIGHT
BEGIN:STANDARD
TZOFFSETFROM:-0700
TZOFFSETTO:-0800
TZNAME:PST
DTSTART:20241103T090000
END:STANDARD
END:VTIMEZONE
BEGIN:VEVENT
DTSTART;TZID=America/Los_Angeles:20230920T170000
DTEND;TZID=America/Los_Angeles:20230920T190000
DTSTAMP:20260423T032244
CREATED:20231104T032535Z
LAST-MODIFIED:20231104T032536Z
UID:3795-1695229200-1695236400@alliancesocal.org
SUMMARY:Keeping California Golden
DESCRIPTION:The Alliance for SoCal Innovation has arranged for Marina Salinas to moderate a discussion between Steve Westly and Dee Dee Myers on “Keeping California Golden.” We will be discussing several key issues that are impeding business growth in California\, including high taxes\, high cost of living\, regulatory burdens\, and infrastructure challenges. The discussion will explore these issues and identify potential solutions\, especially in the context of other emerging dynamic economies that pose a growing challenge to California’s economic leadership. \n\n\n\nEvent Sponsor
URL:https://alliancesocal.org/event/keeping-california-golden/
LOCATION:Virtual via Zoom
CATEGORIES:Alliance Events
ORGANIZER;CN="Alliance for SoCal Innovation":MAILTO:info@alliancesocal.org
END:VEVENT
END:VCALENDAR