BEGIN:VCALENDAR
VERSION:2.0
PRODID:-//Alliance for SoCal Innovation - ECPv6.15.17//NONSGML v1.0//EN
CALSCALE:GREGORIAN
METHOD:PUBLISH
X-WR-CALNAME:Alliance for SoCal Innovation
X-ORIGINAL-URL:https://alliancesocal.org
X-WR-CALDESC:Events for Alliance for SoCal Innovation
REFRESH-INTERVAL;VALUE=DURATION:PT1H
X-Robots-Tag:noindex
X-PUBLISHED-TTL:PT1H
BEGIN:VTIMEZONE
TZID:America/Los_Angeles
BEGIN:DAYLIGHT
TZOFFSETFROM:-0800
TZOFFSETTO:-0700
TZNAME:PDT
DTSTART:20220313T100000
END:DAYLIGHT
BEGIN:STANDARD
TZOFFSETFROM:-0700
TZOFFSETTO:-0800
TZNAME:PST
DTSTART:20221106T090000
END:STANDARD
BEGIN:DAYLIGHT
TZOFFSETFROM:-0800
TZOFFSETTO:-0700
TZNAME:PDT
DTSTART:20230312T100000
END:DAYLIGHT
BEGIN:STANDARD
TZOFFSETFROM:-0700
TZOFFSETTO:-0800
TZNAME:PST
DTSTART:20231105T090000
END:STANDARD
BEGIN:DAYLIGHT
TZOFFSETFROM:-0800
TZOFFSETTO:-0700
TZNAME:PDT
DTSTART:20240310T100000
END:DAYLIGHT
BEGIN:STANDARD
TZOFFSETFROM:-0700
TZOFFSETTO:-0800
TZNAME:PST
DTSTART:20241103T090000
END:STANDARD
END:VTIMEZONE
BEGIN:VEVENT
DTSTART;TZID=America/Los_Angeles:20231018T090000
DTEND;TZID=America/Los_Angeles:20231018T150000
DTSTAMP:20260421T010129
CREATED:20231026T210656Z
LAST-MODIFIED:20231030T221713Z
UID:3812-1697619600-1697641200@alliancesocal.org
SUMMARY:The 5th Annual SoCal Ecosystem Leadership Forum
DESCRIPTION:Our annual regional planning workshop is focused on uniting and catalyzing the leadership of Southern California’s diverse and compelling innovation nodes which define the SoCal innovation network. To accomplish this\, we will convene a diverse cross section of leaders from across the region for a professionally facilitated one-day intensive workshop to learn\, share best practices\, connect with key partners and generate a coordinated strategy to tackle shared challenges and opportunities. This event is invite-only and free of charge\, thanks to our sponsors Hines\, Verizon\, Sunstone Management\, and Annenberg Tech | The Annenberg Foundation. \n\n\n\n​This year’s forum is focused on making SoCal more competitive — nationally and within California — in attracting investment through public and private funding sources. The primary audience for the discussions will be representatives from SoCal ecosystem-focused organizations such as economic development agencies\, accelerators\, regional and industry-specific startup support organizations\, as well as local\, state\, and federal government agencies who fund economic development. \n\n\n\n​Forum Goals:\n\n\n\n\n​Connect the key people and organizations working to drive economic development and prosperity within SoCal’s innovation ecosystem\n\n\n\n\n\n​Identify trends and available opportunities to fund economic development initiatives so that ecosystem stakeholders can best prepare and align resources to capitalize on the appropriate funding sources for their communities\n\n\n\n​Instigate and support deeper relationships between SoCal’s innovation ecosystem leaders to ensure improved coordination of effort and collaboration within the region\n\n\n\n\n​Agenda:\n\n\n\n​9:00 AM: Informal networking \n\n\n\n​Come early for coffee and refreshments while you (re)connect with colleagues. \n\n\n\n​​10:00 AM: Welcome \n\n\n\n​Kicking off the day with comments from Alliance staff and welcome from Doug Holte\, CEO at EXP by Hines\, our host and venue sponsor. \n\n\n\n​10:15: Introductions: Who’s in the room? \n\n\n\n​​Each attendee will share a quick (10 second) summary of your organization and the role you play in the ecosystem. Roles could include: Investor\, Government\, Ecosystem Support Org\, Corporate\, Academic Institution\, Service Provider (e.g. Banking\, Legal\, Accounting). \n\n\n\n​Led by our emcee and program facilitator\, Juan Ceva \n\n\n\n​10:30a: Conversation Round 1. Funding Economic Development. Sponsored by Verizon \n\n\n\n​What economic development priorities are getting funding\, and how can the SoCal ecosystem best prepare? Panel discussion with regional funders featuring representatives from government agencies and philanthropic foundations where we will learn about upcoming funding opportunities\, debrief about past experiences\, and gain insights into the evolving trends for funding economic development programs.  \n\n\n\n​Speakers: Wilfred Marshall (US Economic Development Administration)\, Deepak Bahl (USC Center for Economic Development)\, Chris Earl (CA GO BIZ)\, Shaun Randolph (LA N Sync / California Community Foundation)\, Stephanie Holloway (LA County). Moderator: Stacy Cumberbatch (Blended Impact Labs) \n\n\n\n​​11:25a: Break + Networking \n\n\n\n​​11:45a: Conversation Round 2. Launching Public / Private Partnerships (PPPs) That Work. Sponsored by Sunstone Management \n\n\n\n​A group discussion led by experts who have launched numerous successful PPPs and are eager to share insights from their past collaborations and best practices to enable you to achieve impact that is aligned with your mission.  \n\n\n\n​Speakers: John Keisler\, CEO of Sunstone Management and Jesus Roman\, VP State and Local Government Affairs at Verizon Communications. \n\n\n\n​​12:15p: Lunch Break at Hangar 24. Sponsored by Hines \n\n\n\n​​1:00p: Workshop: How can the SoCal innovation ecosystem be more effective at bringing investment to the region that funds high impact economic development programs? Sponsored by Annenberg Tech | Annenberg Foundation \n\n\n\n​​​An interactive group discussion on how the region’s key stakeholder groups can effectively coordinate efforts and resources to go after potentially transformative funding opportunities collaboratively. We’ll identify the key initiatives (e.g. grants\, PPPs)\, essential organizations to include in those initiatives\, and how we can proactively utilize (or forge) alliances and effective partnerships to best accomplish our regional funding goals. \n\n\n\n​​2:30p: Wrap Up Discussion: summarizing the day and forging a plan for next steps and action. \n\n\n\n​3:00p: Program concludes
URL:https://alliancesocal.org/event/the-5th-annual-socal-ecosystem-leadership-forum/
CATEGORIES:Alliance Events
ORGANIZER;CN="Alliance for SoCal Innovation":MAILTO:info@alliancesocal.org
END:VEVENT
BEGIN:VEVENT
DTSTART;TZID=America/Los_Angeles:20231018T173000
DTEND;TZID=America/Los_Angeles:20231018T200000
DTSTAMP:20260421T010129
CREATED:20230208T221259Z
LAST-MODIFIED:20231025T235027Z
UID:2600-1697650200-1697659200@alliancesocal.org
SUMMARY:MedTech Minds© Mastermind | OCTOBER 2023
DESCRIPTION:Are you ready to meet and network with the leading innovators and professionals in the life sciences industry? Do you have a medical device\, biotech\, or healthcare company or startup that you’re looking to grow? Are you seeking expert guidance on how to navigate your career in medtech or biotech? \nMedTech Minds is the must-attend event for professionals and entrepreneurs in the medical device\, biotech\, and healthcare industry. Hosted by MIX\, this mastermind event will connect you with some of the leading innovators\, thought leaders\, and game changers in the life sciences sector. You’ll participate in high-powered peer-to-peer mentoring\, brainstorming\, and Q&A sessions\, and get valuable insights on how to succeed in the medtech or biotech industry. \nAs a member of this mastermind group\, you’ll benefit from the diverse strengths\, wisdom\, and experience of your peers\, and be able to collaborate\, support\, and advise each other as you work towards success. Don’t miss out on this unique opportunity to grow both personally and professionally. Sign up for MedTech Minds today! \n—– \nA﻿BOUT MASTERMIND EVENTS \nA Mastermind is a small group of peers who share similar interests and goals and meet on a regular basis. The purpose of their meetings is to discuss an issue or problem members are facing\, find answers\, and help each other succeed. \nThe group functions as your Board of Directors. Different strengths\, wisdom\, and experience of the members allows you to brainstorm\, support\, and advise each other. As part of this alliance\, everyone becomes smarter and empowered by the synergy created. \n“This process\, called masterminding\, is one of the most powerful tools for success presented in this book (The Success Principles). I don’t know anybody who has become super successful who has not employed the principle of masterminding.” ˜ The Success Principles– Jack Canfield \nMembers who submit questions have a chance to be in the “hot seat”. The hot seat participant brings up an issue and explains what help they need. The other members ask questions\, delve deeper into a problem\, brainstorm ideas and offer a solution. \n-﻿—- \nADDITIONAL EVENT DETAILS \nThis is a unique\, interactive event – and as an added bonus\, if you submit a question about the industry\, your startup\, or your career when you purchase your ticket\, and your question is chosen as one of the 6 featured at the event\, you’ll receive a full refund for your ticket and free admission! \nThis is an indoor event. Please plan to bring a mask if required by mandate due to COVID. Tickets are limited and only 30 attendees will be allowed. \n—– \nSCHEDULE \n5:15-5:45 – Meet and Mingle \n5:45-6:30 – Introduction \n6:30-7:00 – 1st Round of Mastermind \n7:00-7﻿:10 – Break and Mingle \n7:10-7:35 – 2nd Round of Mastermind` \n7:35-7:50 – Brag box or Startup Rapid Pitch \n7:50-8:00 – Closing and mingling \n———– \nTICKETS \nEARLY BIRD PRICING: $20 \nGENERAL ADMISSION PRICING: $30 admission (cards and cash accepted at the door) \n———– \nEVENT POWERED BY \nUniversity Lab Partners \nUniversity Lab Partners is an independent\, non-profit program of Beall Family Foundation. An open innovation platform enables bioscience & MedTech companies to access unique research capabilities and a network of technical\, business\, and talent resources at an economical cost. \nFirst Republic Bank \nFirst Republic is at the forefront of serving healthcare and biotech professionals and their businesses. As you dedicate time to your business\, you need a banking partner who can offer clear\, balanced\, and unbiased advice to help you make important financials decisions that affect your future. Its part of their commitment to providing the medical and biotech communities with extraordinary personal service- now and in the future. \nSyprosoft \nFounded in 2002\, Syprosoft Engineering provides consulting services to the medical devices industry. Our clients range from Fortune 500 size firms to entrepreneurs and innovators sometimes with single-digit number of employees. Clients are based literally around the world\, and our experience includes diagnostic\, therapeutic and surgical devices\, touching nearly every part of the human body. Services cover product development\, regulatory clearance/compliance\, and manufacturing launch \nMedLance \nMedLance is here to revolutionize the way MedTech professionals connect and work together. As a company founded by MedTech experts\, they understand the struggles of finding high-quality\, on-demand resources and the importance of having the relevant information you need to build your dream team. That’s why MedLance is more than just a generic work marketplace – it’s a specialized and powerful tool designed specifically for the MedTech industry. We help product developers and freelancers fill critical talent and knowledge gaps so that the right people can find the right job\, faster and for less.
URL:https://alliancesocal.org/event/medtech-minds-mastermind-october-2023/
LOCATION:University Lab Partners\, 5270 California Ave Suite 300\, Irvine\, 92617
CATEGORIES:Community Events
ATTACH;FMTTYPE=image/jpeg:https://alliancesocal.org/wp-content/uploads/2023/02/10.jpg
ORGANIZER;CN="Medical Innovation Exchange":MAILTO:info@medinnovationexchange.com
END:VEVENT
END:VCALENDAR