BEGIN:VCALENDAR
VERSION:2.0
PRODID:-//Alliance for SoCal Innovation - ECPv6.15.17//NONSGML v1.0//EN
CALSCALE:GREGORIAN
METHOD:PUBLISH
X-WR-CALNAME:Alliance for SoCal Innovation
X-ORIGINAL-URL:https://alliancesocal.org
X-WR-CALDESC:Events for Alliance for SoCal Innovation
REFRESH-INTERVAL;VALUE=DURATION:PT1H
X-Robots-Tag:noindex
X-PUBLISHED-TTL:PT1H
BEGIN:VTIMEZONE
TZID:America/Los_Angeles
BEGIN:DAYLIGHT
TZOFFSETFROM:-0800
TZOFFSETTO:-0700
TZNAME:PDT
DTSTART:20220313T100000
END:DAYLIGHT
BEGIN:STANDARD
TZOFFSETFROM:-0700
TZOFFSETTO:-0800
TZNAME:PST
DTSTART:20221106T090000
END:STANDARD
BEGIN:DAYLIGHT
TZOFFSETFROM:-0800
TZOFFSETTO:-0700
TZNAME:PDT
DTSTART:20230312T100000
END:DAYLIGHT
BEGIN:STANDARD
TZOFFSETFROM:-0700
TZOFFSETTO:-0800
TZNAME:PST
DTSTART:20231105T090000
END:STANDARD
BEGIN:DAYLIGHT
TZOFFSETFROM:-0800
TZOFFSETTO:-0700
TZNAME:PDT
DTSTART:20240310T100000
END:DAYLIGHT
BEGIN:STANDARD
TZOFFSETFROM:-0700
TZOFFSETTO:-0800
TZNAME:PST
DTSTART:20241103T090000
END:STANDARD
END:VTIMEZONE
BEGIN:VEVENT
DTSTART;TZID=America/Los_Angeles:20231117T090000
DTEND;TZID=America/Los_Angeles:20231117T103000
DTSTAMP:20260421T072413
CREATED:20231025T232756Z
LAST-MODIFIED:20231025T232757Z
UID:3787-1700211600-1700217000@alliancesocal.org
SUMMARY:LA CxOs - Leadership - How to think about it and How it Grows & Impacts your company.
DESCRIPTION:Leadership – How to think about it and How it Grows & Impacts your company\nJoin us for an engaging and interactive event that delves into the world of leadership and its profound impact on your company’s growth. Learn how to think about leadership in a whole new light and discover the strategies that can help your business thrive.  This event is limited to qualified CEOs & CFOs\, confirmed RSVP required.  No service providers admitted.
URL:https://alliancesocal.org/event/la-cxos-leadership-how-to-think-about-it-and-how-it-grows-impacts-your-company/
CATEGORIES:Community Events
ATTACH;FMTTYPE=image/jpeg:https://alliancesocal.org/wp-content/uploads/2023/10/CEO-CFO.jpg
END:VEVENT
END:VCALENDAR